BEGIN:VCALENDAR
VERSION:2.0
PRODID:-//COLLEEN LLOY - ECPv6.15.20//NONSGML v1.0//EN
CALSCALE:GREGORIAN
METHOD:PUBLISH
X-WR-CALNAME:COLLEEN LLOY
X-ORIGINAL-URL:https://colleenlloy.com
X-WR-CALDESC:Events for COLLEEN LLOY
REFRESH-INTERVAL;VALUE=DURATION:PT1H
X-Robots-Tag:noindex
X-PUBLISHED-TTL:PT1H
BEGIN:VTIMEZONE
TZID:UTC
BEGIN:STANDARD
TZOFFSETFROM:+0000
TZOFFSETTO:+0000
TZNAME:UTC
DTSTART:20220101T000000
END:STANDARD
END:VTIMEZONE
BEGIN:VEVENT
DTSTART;TZID=UTC:20230703T180000
DTEND;TZID=UTC:20230703T190000
DTSTAMP:20260420T000201
CREATED:20230520T165604Z
LAST-MODIFIED:20230520T165604Z
UID:14029-1688407200-1688410800@colleenlloy.com
SUMMARY:Concert with Midnight City
DESCRIPTION:
URL:https://colleenlloy.com/calendar/concert-with-midnight-city/
LOCATION:Seabrook\, 3771 Seabrook Island Road\, Seabrook\, SC\, United States
END:VEVENT
BEGIN:VEVENT
DTSTART;TZID=UTC:20230706T080000
DTEND;TZID=UTC:20230709T170000
DTSTAMP:20260420T000201
CREATED:20230430T171744Z
LAST-MODIFIED:20230430T171829Z
UID:14016-1688630400-1688922000@colleenlloy.com
SUMMARY:Private Event (Nashville\, TN)
DESCRIPTION:
URL:https://colleenlloy.com/calendar/private-event-nashville-tn/
LOCATION:Private
END:VEVENT
BEGIN:VEVENT
DTSTART;TZID=UTC:20230713T190000
DTEND;TZID=UTC:20230713T220000
DTSTAMP:20260420T000201
CREATED:20230430T171959Z
LAST-MODIFIED:20230430T172046Z
UID:14020-1689274800-1689285600@colleenlloy.com
SUMMARY:WHISKEY JACK'S
DESCRIPTION:
URL:https://colleenlloy.com/calendar/whiskey-jacks/
LOCATION:17 Prime Steakhouse\, 2061 Savannah Hwy\, Charleston\, SC\, 29407\, United States
END:VEVENT
BEGIN:VEVENT
DTSTART;TZID=UTC:20230714T190000
DTEND;TZID=UTC:20230714T220000
DTSTAMP:20260420T000201
CREATED:20230430T172103Z
LAST-MODIFIED:20230430T172134Z
UID:14022-1689361200-1689372000@colleenlloy.com
SUMMARY:Slightly North of Broad
DESCRIPTION:
URL:https://colleenlloy.com/calendar/slightly-north-of-broad-55/
LOCATION:Slightly North of Broad (SNOB)\, 192 E Bay Street\, Charleston\, South Carolins\, 29401
END:VEVENT
BEGIN:VEVENT
DTSTART;TZID=UTC:20230721T190000
DTEND;TZID=UTC:20230721T220000
DTSTAMP:20260420T000201
CREATED:20230430T172146Z
LAST-MODIFIED:20230430T172216Z
UID:14024-1689966000-1689976800@colleenlloy.com
SUMMARY:Slightly North of Broad
DESCRIPTION:
URL:https://colleenlloy.com/calendar/slightly-north-of-broad-56/
LOCATION:Slightly North of Broad (SNOB)\, 192 E Bay Street\, Charleston\, South Carolins\, 29401
END:VEVENT
BEGIN:VEVENT
DTSTART;TZID=UTC:20230728T190000
DTEND;TZID=UTC:20230728T220000
DTSTAMP:20260420T000201
CREATED:20230430T172221Z
LAST-MODIFIED:20230430T172258Z
UID:14026-1690570800-1690581600@colleenlloy.com
SUMMARY:Slightly North of Broad
DESCRIPTION:
URL:https://colleenlloy.com/calendar/slightly-north-of-broad-57/
LOCATION:Slightly North of Broad (SNOB)\, 192 E Bay Street\, Charleston\, South Carolins\, 29401
END:VEVENT
END:VCALENDAR