BEGIN:VCALENDAR
VERSION:2.0
PRODID:-//COLLEEN LLOY - ECPv6.15.20//NONSGML v1.0//EN
CALSCALE:GREGORIAN
METHOD:PUBLISH
X-WR-CALNAME:COLLEEN LLOY
X-ORIGINAL-URL:https://colleenlloy.com
X-WR-CALDESC:Events for COLLEEN LLOY
REFRESH-INTERVAL;VALUE=DURATION:PT1H
X-Robots-Tag:noindex
X-PUBLISHED-TTL:PT1H
BEGIN:VTIMEZONE
TZID:UTC
BEGIN:STANDARD
TZOFFSETFROM:+0000
TZOFFSETTO:+0000
TZNAME:UTC
DTSTART:20220101T000000
END:STANDARD
END:VTIMEZONE
BEGIN:VEVENT
DTSTART;TZID=UTC:20230804T190000
DTEND;TZID=UTC:20230804T220000
DTSTAMP:20260419T222119
CREATED:20230520T170407Z
LAST-MODIFIED:20230520T170407Z
UID:14037-1691175600-1691186400@colleenlloy.com
SUMMARY:Slightly North of Broad
DESCRIPTION:
URL:https://colleenlloy.com/calendar/slightly-north-of-broad-58/
LOCATION:Slightly North of Broad (SNOB)\, 192 E Bay Street\, Charleston\, South Carolins\, 29401
END:VEVENT
BEGIN:VEVENT
DTSTART;TZID=UTC:20230805T190000
DTEND;TZID=UTC:20230805T220000
DTSTAMP:20260419T222119
CREATED:20230719T215429Z
LAST-MODIFIED:20230719T215429Z
UID:14042-1691262000-1691272800@colleenlloy.com
SUMMARY:Ireland's Pub
DESCRIPTION:
URL:https://colleenlloy.com/calendar/irelands-pub/
LOCATION:Ireland’s Own Jagerhaus Pub\, 3025 Ashley Town Center\, Charleston\, SC\, 29414\, United States
END:VEVENT
BEGIN:VEVENT
DTSTART;TZID=UTC:20230811T190000
DTEND;TZID=UTC:20230811T220000
DTSTAMP:20260419T222119
CREATED:20230520T170448Z
LAST-MODIFIED:20230520T170448Z
UID:14039-1691780400-1691791200@colleenlloy.com
SUMMARY:Slightly North of Broad
DESCRIPTION:
URL:https://colleenlloy.com/calendar/slightly-north-of-broad-59/
LOCATION:Slightly North of Broad (SNOB)\, 192 E Bay Street\, Charleston\, South Carolins\, 29401
END:VEVENT
BEGIN:VEVENT
DTSTART;TZID=UTC:20230818T190000
DTEND;TZID=UTC:20230818T220000
DTSTAMP:20260419T222119
CREATED:20230719T215603Z
LAST-MODIFIED:20230719T215603Z
UID:14044-1692385200-1692396000@colleenlloy.com
SUMMARY:Slightly North of Broad
DESCRIPTION:
URL:https://colleenlloy.com/calendar/slightly-north-of-broad-60/
LOCATION:Slightly North of Broad (SNOB)\, 192 E Bay Street\, Charleston\, South Carolins\, 29401
END:VEVENT
BEGIN:VEVENT
DTSTART;TZID=UTC:20230825T190000
DTEND;TZID=UTC:20230825T220000
DTSTAMP:20260419T222119
CREATED:20230719T215712Z
LAST-MODIFIED:20230719T215712Z
UID:14046-1692990000-1693000800@colleenlloy.com
SUMMARY:Slightly North of Broad
DESCRIPTION:
URL:https://colleenlloy.com/calendar/slightly-north-of-broad-61/
LOCATION:Slightly North of Broad (SNOB)\, 192 E Bay Street\, Charleston\, South Carolins\, 29401
END:VEVENT
END:VCALENDAR