BEGIN:VCALENDAR
VERSION:2.0
PRODID:-//COLLEEN LLOY - ECPv6.15.20//NONSGML v1.0//EN
CALSCALE:GREGORIAN
METHOD:PUBLISH
X-ORIGINAL-URL:https://colleenlloy.com
X-WR-CALDESC:Events for COLLEEN LLOY
REFRESH-INTERVAL;VALUE=DURATION:PT1H
X-Robots-Tag:noindex
X-PUBLISHED-TTL:PT1H
BEGIN:VTIMEZONE
TZID:UTC
BEGIN:STANDARD
TZOFFSETFROM:+0000
TZOFFSETTO:+0000
TZNAME:UTC
DTSTART:20220101T000000
END:STANDARD
END:VTIMEZONE
BEGIN:VEVENT
DTSTART;VALUE=DATE:20230905
DTEND;VALUE=DATE:20230914
DTSTAMP:20260419T204332
CREATED:20230719T215942Z
LAST-MODIFIED:20230719T215942Z
UID:14048-1693872000-1694649599@colleenlloy.com
SUMMARY:Ooh La La France
DESCRIPTION:
URL:https://colleenlloy.com/calendar/ooh-la-la-france/
LOCATION:Private
END:VEVENT
BEGIN:VEVENT
DTSTART;TZID=UTC:20230915T190000
DTEND;TZID=UTC:20230915T220000
DTSTAMP:20260419T204332
CREATED:20230719T220029Z
LAST-MODIFIED:20230719T220029Z
UID:14050-1694804400-1694815200@colleenlloy.com
SUMMARY:Slightly North of Broad
DESCRIPTION:
URL:https://colleenlloy.com/calendar/slightly-north-of-broad-62/
LOCATION:Slightly North of Broad (SNOB)\, 192 E Bay Street\, Charleston\, South Carolins\, 29401
END:VEVENT
BEGIN:VEVENT
DTSTART;TZID=UTC:20230922T180000
DTEND;TZID=UTC:20230922T210000
DTSTAMP:20260419T204332
CREATED:20230719T220222Z
LAST-MODIFIED:20230919T130823Z
UID:14052-1695405600-1695416400@colleenlloy.com
SUMMARY:Cancelled due to Illness (apologies) The Silver Maple House Concert
DESCRIPTION:Sadly\, I got an awful flu like virus and cannot attend. My apologies. xoxo
URL:https://colleenlloy.com/calendar/the-silver-maple-house-concert/
LOCATION:Private
END:VEVENT
BEGIN:VEVENT
DTSTART;TZID=UTC:20230928T190000
DTEND;TZID=UTC:20230928T220000
DTSTAMP:20260419T204332
CREATED:20230719T220306Z
LAST-MODIFIED:20230719T220306Z
UID:14054-1695927600-1695938400@colleenlloy.com
SUMMARY:Whiskey Jack's
DESCRIPTION:
URL:https://colleenlloy.com/calendar/whiskey-jacks-3/
LOCATION:17 Prime Steakhouse\, 2061 Savannah Hwy\, Charleston\, SC\, 29407\, United States
END:VEVENT
BEGIN:VEVENT
DTSTART;TZID=UTC:20230929T190000
DTEND;TZID=UTC:20230929T220000
DTSTAMP:20260419T204332
CREATED:20230719T220402Z
LAST-MODIFIED:20230719T220402Z
UID:14056-1696014000-1696024800@colleenlloy.com
SUMMARY:Slightly North of Broad
DESCRIPTION:
URL:https://colleenlloy.com/calendar/slightly-north-of-broad-63/
LOCATION:Slightly North of Broad (SNOB)\, 192 E Bay Street\, Charleston\, South Carolins\, 29401
END:VEVENT
END:VCALENDAR