BEGIN:VCALENDAR
VERSION:2.0
PRODID:-//COLLEEN LLOY - ECPv6.15.20//NONSGML v1.0//EN
CALSCALE:GREGORIAN
METHOD:PUBLISH
X-WR-CALNAME:COLLEEN LLOY
X-ORIGINAL-URL:https://colleenlloy.com
X-WR-CALDESC:Events for COLLEEN LLOY
REFRESH-INTERVAL;VALUE=DURATION:PT1H
X-Robots-Tag:noindex
X-PUBLISHED-TTL:PT1H
BEGIN:VTIMEZONE
TZID:UTC
BEGIN:STANDARD
TZOFFSETFROM:+0000
TZOFFSETTO:+0000
TZNAME:UTC
DTSTART:20220101T000000
END:STANDARD
END:VTIMEZONE
BEGIN:VEVENT
DTSTART;TZID=UTC:20231005T080000
DTEND;TZID=UTC:20231009T170000
DTSTAMP:20260419T185135
CREATED:20230520T165828Z
LAST-MODIFIED:20230520T165949Z
UID:14031-1696492800-1696870800@colleenlloy.com
SUMMARY:Pensacola Beach Songwriter's Festival
DESCRIPTION:I am excited to be back to this amazing event. Varied events in Pensacola Beach\, FL
URL:https://colleenlloy.com/calendar/pensacola-beach-songwriters-festival-4/
LOCATION:Private
END:VEVENT
BEGIN:VEVENT
DTSTART;TZID=UTC:20231020T190000
DTEND;TZID=UTC:20231020T220000
DTSTAMP:20260419T185135
CREATED:20230719T220532Z
LAST-MODIFIED:20230719T220532Z
UID:14058-1697828400-1697839200@colleenlloy.com
SUMMARY:Slightly North of Broad
DESCRIPTION:oght
URL:https://colleenlloy.com/calendar/slightly-north-of-broad-64/
LOCATION:Slightly North of Broad (SNOB)\, 192 E Bay Street\, Charleston\, South Carolins\, 29401
END:VEVENT
BEGIN:VEVENT
DTSTART;TZID=UTC:20231027T190000
DTEND;TZID=UTC:20231027T220000
DTSTAMP:20260419T185135
CREATED:20230719T220631Z
LAST-MODIFIED:20230719T220631Z
UID:14060-1698433200-1698444000@colleenlloy.com
SUMMARY:Slightly North of Broad
DESCRIPTION:
URL:https://colleenlloy.com/calendar/slightly-north-of-broad-65/
LOCATION:Slightly North of Broad (SNOB)\, 192 E Bay Street\, Charleston\, South Carolins\, 29401
END:VEVENT
END:VCALENDAR