BEGIN:VCALENDAR
VERSION:2.0
PRODID:-//COLLEEN LLOY - ECPv6.15.20//NONSGML v1.0//EN
CALSCALE:GREGORIAN
METHOD:PUBLISH
X-ORIGINAL-URL:https://colleenlloy.com
X-WR-CALDESC:Events for COLLEEN LLOY
REFRESH-INTERVAL;VALUE=DURATION:PT1H
X-Robots-Tag:noindex
X-PUBLISHED-TTL:PT1H
BEGIN:VTIMEZONE
TZID:UTC
BEGIN:STANDARD
TZOFFSETFROM:+0000
TZOFFSETTO:+0000
TZNAME:UTC
DTSTART:20220101T000000
END:STANDARD
END:VTIMEZONE
BEGIN:VEVENT
DTSTART;TZID=UTC:20231201T190000
DTEND;TZID=UTC:20231201T220000
DTSTAMP:20260419T153953
CREATED:20240204T194836Z
LAST-MODIFIED:20240204T194836Z
UID:14804-1701457200-1701468000@colleenlloy.com
SUMMARY:Slightly North of Broad
DESCRIPTION:
URL:https://colleenlloy.com/calendar/slightly-north-of-broad-68/
LOCATION:Slightly North of Broad (SNOB)\, 192 E Bay Street\, Charleston\, South Carolins\, 29401
END:VEVENT
BEGIN:VEVENT
DTSTART;TZID=UTC:20231208T190000
DTEND;TZID=UTC:20231208T220000
DTSTAMP:20260419T153953
CREATED:20240204T195006Z
LAST-MODIFIED:20240204T195006Z
UID:14806-1702062000-1702072800@colleenlloy.com
SUMMARY:Slightly North of Broad
DESCRIPTION:
URL:https://colleenlloy.com/calendar/slightly-north-of-broad-69/
LOCATION:Slightly North of Broad (SNOB)\, 192 E Bay Street\, Charleston\, South Carolins\, 29401
END:VEVENT
BEGIN:VEVENT
DTSTART;TZID=UTC:20231215T190000
DTEND;TZID=UTC:20231215T220000
DTSTAMP:20260419T153953
CREATED:20240204T195102Z
LAST-MODIFIED:20240204T195102Z
UID:14808-1702666800-1702677600@colleenlloy.com
SUMMARY:Slightly North of Broad
DESCRIPTION:
URL:https://colleenlloy.com/calendar/slightly-north-of-broad-70/
LOCATION:Slightly North of Broad (SNOB)\, 192 E Bay Street\, Charleston\, South Carolins\, 29401
END:VEVENT
END:VCALENDAR