BEGIN:VCALENDAR
VERSION:2.0
PRODID:-//COLLEEN LLOY - ECPv6.15.20//NONSGML v1.0//EN
CALSCALE:GREGORIAN
METHOD:PUBLISH
X-WR-CALNAME:COLLEEN LLOY
X-ORIGINAL-URL:https://colleenlloy.com
X-WR-CALDESC:Events for COLLEEN LLOY
REFRESH-INTERVAL;VALUE=DURATION:PT1H
X-Robots-Tag:noindex
X-PUBLISHED-TTL:PT1H
BEGIN:VTIMEZONE
TZID:UTC
BEGIN:STANDARD
TZOFFSETFROM:+0000
TZOFFSETTO:+0000
TZNAME:UTC
DTSTART:20230101T000000
END:STANDARD
END:VTIMEZONE
BEGIN:VEVENT
DTSTART;TZID=UTC:20240626T080000
DTEND;TZID=UTC:20240707T170000
DTSTAMP:20260421T210824
CREATED:20240320T184145Z
LAST-MODIFIED:20240320T184145Z
UID:14861-1719388800-1720371600@colleenlloy.com
SUMMARY:Private Event Nashville. TN
DESCRIPTION:
URL:https://colleenlloy.com/calendar/private-event-nashville-tn-2/
LOCATION:Private
END:VEVENT
BEGIN:VEVENT
DTSTART;TZID=UTC:20240711T180000
DTEND;TZID=UTC:20240711T210000
DTSTAMP:20260421T210824
CREATED:20240320T184222Z
LAST-MODIFIED:20240320T184222Z
UID:14863-1720720800-1720731600@colleenlloy.com
SUMMARY:Commonhouse Aleworks
DESCRIPTION:
URL:https://colleenlloy.com/calendar/commonhouse-aleworks-4/
LOCATION:Commonhouse ALeworks\, 4831 O'Hear Avenue\, N Charleston\, SC\, 29405\, United States
END:VEVENT
BEGIN:VEVENT
DTSTART;TZID=UTC:20240718T180000
DTEND;TZID=UTC:20240718T210000
DTSTAMP:20260421T210824
CREATED:20240320T184046Z
LAST-MODIFIED:20240522T191231Z
UID:14859-1721325600-1721336400@colleenlloy.com
SUMMARY:Commonhouse Aleworks
DESCRIPTION:
URL:https://colleenlloy.com/calendar/commonhouse-aleworks-3/
LOCATION:Commonhouse ALeworks\, 4831 O'Hear Avenue\, N Charleston\, SC\, 29405\, United States
END:VEVENT
BEGIN:VEVENT
DTSTART;TZID=UTC:20240726T190000
DTEND;TZID=UTC:20240726T210000
DTSTAMP:20260421T210824
CREATED:20240306T003824Z
LAST-MODIFIED:20240306T003824Z
UID:14847-1722020400-1722027600@colleenlloy.com
SUMMARY:Accent on Wine Whitehall
DESCRIPTION:
URL:https://colleenlloy.com/calendar/accent-on-wine-whitehall-6/
LOCATION:Accent on Wine Whitehall\, 5401 Netherby Ln Suite 1003\, North Charleston\, SC\, 29420\, United States
END:VEVENT
END:VCALENDAR