BEGIN:VCALENDAR
VERSION:2.0
PRODID:-//COLLEEN LLOY - ECPv6.15.20//NONSGML v1.0//EN
CALSCALE:GREGORIAN
METHOD:PUBLISH
X-WR-CALNAME:COLLEEN LLOY
X-ORIGINAL-URL:https://colleenlloy.com
X-WR-CALDESC:Events for COLLEEN LLOY
REFRESH-INTERVAL;VALUE=DURATION:PT1H
X-Robots-Tag:noindex
X-PUBLISHED-TTL:PT1H
BEGIN:VTIMEZONE
TZID:UTC
BEGIN:STANDARD
TZOFFSETFROM:+0000
TZOFFSETTO:+0000
TZNAME:UTC
DTSTART:20230101T000000
END:STANDARD
END:VTIMEZONE
BEGIN:VEVENT
DTSTART;TZID=UTC:20240911T183000
DTEND;TZID=UTC:20240911T200000
DTSTAMP:20260421T162343
CREATED:20240402T191542Z
LAST-MODIFIED:20240725T183205Z
UID:14872-1726079400-1726084800@colleenlloy.com
SUMMARY:Join me at Awendaw Green
DESCRIPTION:I cannot think of a better time to remember those that lost their lives on 9/11. It is a healing place to listen to original music. Bring a lawn chair. $10 cover charge. Lots of food choices. There will be several artists starting at different times. TBD
URL:https://colleenlloy.com/calendar/join-me-at-awendaw-green/
LOCATION:Awendaw Green\, 4853 N Hwy 17\, Awendaw\, sc\, 29429
END:VEVENT
BEGIN:VEVENT
DTSTART;TZID=UTC:20240912T170000
DTEND;TZID=UTC:20240912T190000
DTSTAMP:20260421T162343
CREATED:20240725T183746Z
LAST-MODIFIED:20240725T183746Z
UID:14900-1726160400-1726167600@colleenlloy.com
SUMMARY:Daniel Island Waterfront Park Fall Acoustic Series
DESCRIPTION:
URL:https://colleenlloy.com/calendar/daniel-island-waterfront-park-fall-acoustic-series/
LOCATION:Daniel Island Waterfront Park\, 101 River Landing\, Charleston\, SC\, 29492\, United States
END:VEVENT
BEGIN:VEVENT
DTSTART;TZID=UTC:20240919T180000
DTEND;TZID=UTC:20240919T210000
DTSTAMP:20260421T162343
CREATED:20240725T183850Z
LAST-MODIFIED:20240725T183850Z
UID:14903-1726768800-1726779600@colleenlloy.com
SUMMARY:Commonhouse Aleworks
DESCRIPTION:
URL:https://colleenlloy.com/calendar/commonhouse-aleworks-10/
LOCATION:Commonhouse ALeworks\, 4831 O'Hear Avenue\, N Charleston\, SC\, 29405\, United States
END:VEVENT
BEGIN:VEVENT
DTSTART;TZID=UTC:20240921T150000
DTEND;TZID=UTC:20240921T160000
DTSTAMP:20260421T162343
CREATED:20240725T184018Z
LAST-MODIFIED:20240725T184018Z
UID:14905-1726930800-1726934400@colleenlloy.com
SUMMARY:Southern Songwriter Festival
DESCRIPTION:TBA exact location but several venues in downtown Summerville\, SC
URL:https://colleenlloy.com/calendar/southern-songwriter-festival/
LOCATION:Southern Songwriter Festival\, Summerville\, SC\, United States
END:VEVENT
BEGIN:VEVENT
DTSTART;TZID=UTC:20240927T190000
DTEND;TZID=UTC:20240927T210000
DTSTAMP:20260421T162343
CREATED:20240322T225944Z
LAST-MODIFIED:20240812T142804Z
UID:14867-1727463600-1727470800@colleenlloy.com
SUMMARY:Accent on Wine Whitehall
DESCRIPTION:
URL:https://colleenlloy.com/calendar/accent-on-wine-whitehall-8/
LOCATION:Accent on Wine Whitehall\, 5401 Netherby Ln Suite 1003\, North Charleston\, SC\, 29420\, United States
END:VEVENT
END:VCALENDAR