BEGIN:VCALENDAR
VERSION:2.0
PRODID:-//COLLEEN LLOY - ECPv6.15.20//NONSGML v1.0//EN
CALSCALE:GREGORIAN
METHOD:PUBLISH
X-ORIGINAL-URL:https://colleenlloy.com
X-WR-CALDESC:Events for COLLEEN LLOY
REFRESH-INTERVAL;VALUE=DURATION:PT1H
X-Robots-Tag:noindex
X-PUBLISHED-TTL:PT1H
BEGIN:VTIMEZONE
TZID:UTC
BEGIN:STANDARD
TZOFFSETFROM:+0000
TZOFFSETTO:+0000
TZNAME:UTC
DTSTART:20240101T000000
END:STANDARD
END:VTIMEZONE
BEGIN:VEVENT
DTSTART;TZID=UTC:20250330T080000
DTEND;TZID=UTC:20250404T170000
DTSTAMP:20260421T225951
CREATED:20250309T191257Z
LAST-MODIFIED:20250309T191257Z
UID:14982-1743321600-1743786000@colleenlloy.com
SUMMARY:Seaside FL (private)
DESCRIPTION:
URL:https://colleenlloy.com/calendar/seaside-fl-private/
LOCATION:Private
END:VEVENT
BEGIN:VEVENT
DTSTART;TZID=UTC:20250405T180000
DTEND;TZID=UTC:20250405T210000
DTSTAMP:20260421T225951
CREATED:20250309T184231Z
LAST-MODIFIED:20250309T184231Z
UID:14973-1743876000-1743886800@colleenlloy.com
SUMMARY:17 Prime Steakhouse
DESCRIPTION:
URL:https://colleenlloy.com/calendar/17-prime-steakhouse/
LOCATION:17 Prime Steakhouse\, 2061 Savannah Hwy\, Charleston\, SC\, 29407\, United States
END:VEVENT
BEGIN:VEVENT
DTSTART;TZID=UTC:20250409T180000
DTEND;TZID=UTC:20250409T200000
DTSTAMP:20260421T225951
CREATED:20250112T193710Z
LAST-MODIFIED:20250112T193710Z
UID:14961-1744221600-1744228800@colleenlloy.com
SUMMARY:Awendaw Green
DESCRIPTION:
URL:https://colleenlloy.com/calendar/awendaw-green-2/
LOCATION:Awendaw Green\, 4853 N Hwy 17\, Awendaw\, sc\, 29429
END:VEVENT
BEGIN:VEVENT
DTSTART;TZID=UTC:20250412T190000
DTEND;TZID=UTC:20250412T220000
DTSTAMP:20260421T225951
CREATED:20250321T171406Z
LAST-MODIFIED:20250321T171406Z
UID:14986-1744484400-1744495200@colleenlloy.com
SUMMARY:Ireland's Own
DESCRIPTION:
URL:https://colleenlloy.com/calendar/irelands-own/
LOCATION:Ireland’s Own Jagerhaus Pub\, 3025 Ashley Town Center\, Charleston\, SC\, 29414\, United States
END:VEVENT
BEGIN:VEVENT
DTSTART;TZID=UTC:20250417T173000
DTEND;TZID=UTC:20250417T203000
DTSTAMP:20260421T225951
CREATED:20241017T150920Z
LAST-MODIFIED:20241017T150920Z
UID:14934-1744911000-1744921800@colleenlloy.com
SUMMARY:Commonhouse Aleworks Every Third Thursday!
DESCRIPTION:
URL:https://colleenlloy.com/calendar/commonhouse-aleworks-every-third-thursday-2/
LOCATION:Commonhouse ALeworks\, 4831 O'Hear Avenue\, N Charleston\, SC\, 29405\, United States
END:VEVENT
BEGIN:VEVENT
DTSTART;TZID=UTC:20250420T113000
DTEND;TZID=UTC:20250420T143000
DTSTAMP:20260421T225951
CREATED:20250407T212207Z
LAST-MODIFIED:20250407T212207Z
UID:14993-1745148600-1745159400@colleenlloy.com
SUMMARY:17 Prime Steakhouse
DESCRIPTION:Join me on Easter Sunday for a delicious Brunch after church. I will be singing a few Gospel songs as well.
URL:https://colleenlloy.com/calendar/17-prime-steakhouse-3/
LOCATION:17 Prime Steakhouse\, 2061 Savannah Hwy\, Charleston\, SC\, 29407\, United States
END:VEVENT
END:VCALENDAR