BEGIN:VCALENDAR
VERSION:2.0
PRODID:-//COLLEEN LLOY - ECPv6.15.20//NONSGML v1.0//EN
CALSCALE:GREGORIAN
METHOD:PUBLISH
X-WR-CALNAME:COLLEEN LLOY
X-ORIGINAL-URL:https://colleenlloy.com
X-WR-CALDESC:Events for COLLEEN LLOY
REFRESH-INTERVAL;VALUE=DURATION:PT1H
X-Robots-Tag:noindex
X-PUBLISHED-TTL:PT1H
BEGIN:VTIMEZONE
TZID:UTC
BEGIN:STANDARD
TZOFFSETFROM:+0000
TZOFFSETTO:+0000
TZNAME:UTC
DTSTART:20240101T000000
END:STANDARD
END:VTIMEZONE
BEGIN:VEVENT
DTSTART;TZID=UTC:20250503T190000
DTEND;TZID=UTC:20250503T210000
DTSTAMP:20260422T004433
CREATED:20250103T214903Z
LAST-MODIFIED:20250103T214903Z
UID:14958-1746298800-1746306000@colleenlloy.com
SUMMARY:Accent on Wine- Whitehall
DESCRIPTION:
URL:https://colleenlloy.com/calendar/accent-on-wine-whitehall-12/
LOCATION:Accent on Wine Whitehall\, 5401 Netherby Ln Suite 1003\, North Charleston\, SC\, 29420\, United States
END:VEVENT
BEGIN:VEVENT
DTSTART;TZID=UTC:20250508T170000
DTEND;TZID=UTC:20250508T190000
DTSTAMP:20260422T004433
CREATED:20250321T171859Z
LAST-MODIFIED:20250321T171859Z
UID:14990-1746723600-1746730800@colleenlloy.com
SUMMARY:Daniel Island Guitar Series in the Park
DESCRIPTION:Bring a picnic and some refreshments and come listen to some music for the soul.
URL:https://colleenlloy.com/calendar/daniel-island-guitar-series-in-the-park/
LOCATION:Daniel Island Waterfront Park\, 101 River Landing\, Charleston\, SC\, 29492\, United States
END:VEVENT
BEGIN:VEVENT
DTSTART;TZID=UTC:20250511T110000
DTEND;TZID=UTC:20250511T140000
DTSTAMP:20260422T004433
CREATED:20250424T184216Z
LAST-MODIFIED:20250424T184216Z
UID:15012-1746961200-1746972000@colleenlloy.com
SUMMARY:Celebrate Mother's Day at 17 Prime Steakhouse
DESCRIPTION:
URL:https://colleenlloy.com/calendar/celebrate-mothers-day-at-17-prime-steakhouse/
LOCATION:17 Prime Steakhouse\, 2061 Savannah Hwy\, Charleston\, SC\, 29407\, United States
END:VEVENT
BEGIN:VEVENT
DTSTART;TZID=UTC:20250515T173000
DTEND;TZID=UTC:20250515T203000
DTSTAMP:20260422T004433
CREATED:20241017T150953Z
LAST-MODIFIED:20241017T150953Z
UID:14936-1747330200-1747341000@colleenlloy.com
SUMMARY:Commonhouse Aleworks Every Third Thursday!
DESCRIPTION:
URL:https://colleenlloy.com/calendar/commonhouse-aleworks-every-third-thursday-3/
LOCATION:Commonhouse ALeworks\, 4831 O'Hear Avenue\, N Charleston\, SC\, 29405\, United States
END:VEVENT
BEGIN:VEVENT
DTSTART;TZID=UTC:20250517T180000
DTEND;TZID=UTC:20250517T210000
DTSTAMP:20260422T004433
CREATED:20250309T184321Z
LAST-MODIFIED:20250309T184321Z
UID:14976-1747504800-1747515600@colleenlloy.com
SUMMARY:17 Prime Steakhouse
DESCRIPTION:
URL:https://colleenlloy.com/calendar/17-prime-steakhouse-2/
LOCATION:17 Prime Steakhouse\, 2061 Savannah Hwy\, Charleston\, SC\, 29407\, United States
END:VEVENT
BEGIN:VEVENT
DTSTART;TZID=UTC:20250524T190000
DTEND;TZID=UTC:20250524T220000
DTSTAMP:20260422T004433
CREATED:20250321T171512Z
LAST-MODIFIED:20250321T171512Z
UID:14988-1748113200-1748124000@colleenlloy.com
SUMMARY:Ireland's Own
DESCRIPTION:
URL:https://colleenlloy.com/calendar/irelands-own-2/
LOCATION:Ireland’s Own Jagerhaus Pub\, 3025 Ashley Town Center\, Charleston\, SC\, 29414\, United States
END:VEVENT
BEGIN:VEVENT
DTSTART;TZID=UTC:20250525T110000
DTEND;TZID=UTC:20250525T140000
DTSTAMP:20260422T004433
CREATED:20250424T184259Z
LAST-MODIFIED:20250424T184259Z
UID:15014-1748170800-1748181600@colleenlloy.com
SUMMARY:17 Prime Steakhouse
DESCRIPTION:
URL:https://colleenlloy.com/calendar/17-prime-steakhouse-7/
LOCATION:17 Prime Steakhouse\, 2061 Savannah Hwy\, Charleston\, SC\, 29407\, United States
END:VEVENT
END:VCALENDAR